BEGIN:VCALENDAR
VERSION:2.0
PRODID:-//TSV Grasbrunn-Neukeferloh e.V. - ECPv6.15.20//NONSGML v1.0//EN
CALSCALE:GREGORIAN
METHOD:PUBLISH
X-ORIGINAL-URL:https://tsv-grasbrunn.de
X-WR-CALDESC:Veranstaltungen für TSV Grasbrunn-Neukeferloh e.V.
REFRESH-INTERVAL;VALUE=DURATION:PT1H
X-Robots-Tag:noindex
X-PUBLISHED-TTL:PT1H
BEGIN:VTIMEZONE
TZID:Europe/Berlin
BEGIN:DAYLIGHT
TZOFFSETFROM:+0100
TZOFFSETTO:+0200
TZNAME:CEST
DTSTART:20240331T010000
END:DAYLIGHT
BEGIN:STANDARD
TZOFFSETFROM:+0200
TZOFFSETTO:+0100
TZNAME:CET
DTSTART:20241027T010000
END:STANDARD
BEGIN:DAYLIGHT
TZOFFSETFROM:+0100
TZOFFSETTO:+0200
TZNAME:CEST
DTSTART:20250330T010000
END:DAYLIGHT
BEGIN:STANDARD
TZOFFSETFROM:+0200
TZOFFSETTO:+0100
TZNAME:CET
DTSTART:20251026T010000
END:STANDARD
BEGIN:DAYLIGHT
TZOFFSETFROM:+0100
TZOFFSETTO:+0200
TZNAME:CEST
DTSTART:20260329T010000
END:DAYLIGHT
BEGIN:STANDARD
TZOFFSETFROM:+0200
TZOFFSETTO:+0100
TZNAME:CET
DTSTART:20261025T010000
END:STANDARD
END:VTIMEZONE
BEGIN:VEVENT
DTSTART;TZID=Europe/Berlin:20250914T170000
DTEND;TZID=Europe/Berlin:20250914T190000
DTSTAMP:20260420T022526
CREATED:20250722T192959Z
LAST-MODIFIED:20250722T193604Z
UID:9017-1757869200-1757876400@tsv-grasbrunn.de
SUMMARY:Erstes Heimspiel der Frauenmannschaft in der Saison 25/26
DESCRIPTION:Das erste Heimspiel der Frauenmannschaft in der Saison 24/25 gegen den SV Waldhausen in der Frauen BZL 01.
URL:https://tsv-grasbrunn.de/veranstaltungen/erstes-heimspiel-der-frauenmannschaft-in-der-saison-25-26/
LOCATION:Sport – und Freizeitpark Eglfing\, Platz 1 | Höglweg 3 | 85540 Haar\, Höglweg 3\, Haar\, 85540\, Germany
CATEGORIES:Fußball Damen,Fußball Erwachsene
ORGANIZER;CN="TSV Grasbrunn-Neukeferloh e.V. Abteilung Fu%C3%9Fball Erwachsene":MAILTO:geschaeftsstelle@tsv-grasbrunn.de
END:VEVENT
BEGIN:VEVENT
DTSTART;TZID=Europe/Berlin:20250921T143000
DTEND;TZID=Europe/Berlin:20250921T163000
DTSTAMP:20260420T022526
CREATED:20250722T193530Z
LAST-MODIFIED:20250722T193530Z
UID:9019-1758465000-1758472200@tsv-grasbrunn.de
SUMMARY:Erstes Heimspiel der Frauenmannschaft in der Saison 25/26
DESCRIPTION:Das erste Heimspiel der Frauenmannschaft in der Saison 24/25 gegen die SG Aschheim/Kirchheimer SC II in der Frauen A-Klasse 02.
URL:https://tsv-grasbrunn.de/veranstaltungen/erstes-heimspiel-der-frauenmannschaft-in-der-saison-25-26-2/
LOCATION:Sport – und Freizeitpark Eglfing\, Platz 1 | Höglweg 3 | 85540 Haar\, Höglweg 3\, Haar\, 85540\, Germany
CATEGORIES:Fußball Damen,Fußball Erwachsene
ORGANIZER;CN="TSV Grasbrunn-Neukeferloh e.V. Abteilung Fu%C3%9Fball Erwachsene":MAILTO:geschaeftsstelle@tsv-grasbrunn.de
END:VEVENT
END:VCALENDAR